BEGIN:VCALENDAR
VERSION:2.0
PRODID:-//eventon.com NONSGML v1.0//EN
CALSCALE:GREGORIAN
METHOD:PUBLISH
BEGIN:VEVENT
UID:69e57c9c1ab64
DTSTAMP:20260420T010844
DTSTART:20260602T173000Z
DTEND:20260602T200000Z
TZID:Europe/Berlin
LOCATION: OPER KÖLN  Rheinparkweg 1\,  50679 Köln
SUMMARY:Turandot
DESCRIPTION: \nhttps://www.wolfgangschwaiger.com/events/turandot-5
URL:https://www.wolfgangschwaiger.com/events/turandot-5
END:VEVENT
END:VCALENDAR